BEGIN:VCALENDAR
VERSION:2.0
PRODID:-//Weiberwirtschaft vo Neiäding - ECPv6.15.20//NONSGML v1.0//EN
CALSCALE:GREGORIAN
METHOD:PUBLISH
X-ORIGINAL-URL:https://weiberwirtschaft-neiaeding.de
X-WR-CALDESC:Veranstaltungen für Weiberwirtschaft vo Neiäding
REFRESH-INTERVAL;VALUE=DURATION:PT1H
X-Robots-Tag:noindex
X-PUBLISHED-TTL:PT1H
BEGIN:VTIMEZONE
TZID:UTC
BEGIN:STANDARD
TZOFFSETFROM:+0000
TZOFFSETTO:+0000
TZNAME:UTC
DTSTART:20240101T000000
END:STANDARD
END:VTIMEZONE
BEGIN:VEVENT
DTSTART;TZID=UTC:20251107T180000
DTEND;TZID=UTC:20251107T233000
DTSTAMP:20260420T223530
CREATED:20250614T091347Z
LAST-MODIFIED:20250628T082757Z
UID:1037-1762538400-1762558200@weiberwirtschaft-neiaeding.de
SUMMARY:S´ Jagerische Lem
DESCRIPTION:🎶🌲 S’ Jagerische Lem – Ein Abend voller Natur\, Genuss & Tradition 🌲🎶 \nLiebe Freunde der Weiberwirtschaft\, seid dabei\, wenn wir das Jagerische Lem feiern – ein Abend\, der euch mitten in die Welt der Jagd und Natur entführt! \n🦌 Wildessen – Frische\, regionale Spezialitäten aus Wald & Flur 🎺 Waldhornbläser – Klangvolle Jagdmusik\, die den Abend verzaubert 📖 Geschichten aus dem Jagerleben – Spannend\, urig & voller Tradition 🎻 Musik & Geselligkeit – Weil’s gemeinsam am schönsten ist \n📅 Datum: 07. November 2025 📍 Ort: Weiberwirtschaft vo Neiäding 🕗 Beginn: 18:00 Uhr \nTaucht mit uns ein in die Wildromantik\, genießt ehrliche Küche und erlebt einen Abend\, der Naturverbundenheit und Gastlichkeit vereint! \nIm Eintrittspreis ist je ein  Begrüßungsgetränk und der „Gruß aus der Küche“ enthalten. \n💬 Reservierung via E-Mail empfohlen! reservierung@weiberwirtschaft-neiaeding.de oder telefonisch unter 08671-5076780 AB 😊
URL:https://weiberwirtschaft-neiaeding.de/event/s-jagerische-lem/
LOCATION:Weiberwirtschaft vo Neiäding\, Alter Stadtberg 15\, Neuötting\, 84524\, Germany
END:VEVENT
BEGIN:VEVENT
DTSTART;TZID=UTC:20251121T080000
DTEND;TZID=UTC:20251121T170000
DTSTAMP:20260420T223530
CREATED:20250109T123052Z
LAST-MODIFIED:20250614T091541Z
UID:734-1763712000-1763744400@weiberwirtschaft-neiaeding.de
SUMMARY:Steakabend
DESCRIPTION:🥩 Steakabend in der Weiberwirtschaft – Genuss auf den Punkt! 🔥 \nFleischliebhaber aufgepasst! Es wird heiß\, saftig und unwiderstehlich lecker – unser Steakabend bringt euch feinste Cuts\, perfekt auf den Punkt gegrillt. \n🔥 Beste Qualität\, volles Aroma – frisch zubereitet & auf Wunsch verfeinert 🥩 Von zart bis herzhaft – Genieße ausgewählte Fleischspezialitäten 🍷 Passende Beilagen – für das perfekte Geschmackserlebnis 🎶 Gemütliche Atmosphäre – weil Genuss auch Ambiente braucht \nReserviere dir deinen Platz und freue dich auf einen Abend voller kulinarischer Höhepunkte!
URL:https://weiberwirtschaft-neiaeding.de/event/steakabend-8/
LOCATION:Weiberwirtschaft vo Neiäding\, Alter Stadtberg 15\, Neuötting\, 84524\, Germany
END:VEVENT
BEGIN:VEVENT
DTSTART;TZID=UTC:20251125T140000
DTEND;TZID=UTC:20251125T180000
DTSTAMP:20260420T223530
CREATED:20250618T114321Z
LAST-MODIFIED:20250618T114321Z
UID:1049-1764079200-1764093600@weiberwirtschaft-neiaeding.de
SUMMARY:Tanztee
DESCRIPTION:
URL:https://weiberwirtschaft-neiaeding.de/event/tanztee-10/
LOCATION:Weiberwirtschaft vo Neiäding\, Alter Stadtberg 15\, Neuötting\, 84524\, Germany
END:VEVENT
END:VCALENDAR