BEGIN:VCALENDAR
VERSION:2.0
PRODID:-//Weiberwirtschaft vo Neiäding - ECPv6.15.20//NONSGML v1.0//EN
CALSCALE:GREGORIAN
METHOD:PUBLISH
X-ORIGINAL-URL:https://weiberwirtschaft-neiaeding.de
X-WR-CALDESC:Veranstaltungen für Weiberwirtschaft vo Neiäding
REFRESH-INTERVAL;VALUE=DURATION:PT1H
X-Robots-Tag:noindex
X-PUBLISHED-TTL:PT1H
BEGIN:VTIMEZONE
TZID:UTC
BEGIN:STANDARD
TZOFFSETFROM:+0000
TZOFFSETTO:+0000
TZNAME:UTC
DTSTART:20250101T000000
END:STANDARD
END:VTIMEZONE
BEGIN:VEVENT
DTSTART;TZID=UTC:20260425T170000
DTEND;TZID=UTC:20260425T210000
DTSTAMP:20260420T114950
CREATED:20250925T071818Z
LAST-MODIFIED:20250925T072612Z
UID:1184-1777136400-1777150800@weiberwirtschaft-neiaeding.de
SUMMARY:Steakabend
DESCRIPTION:🥩 Steakabend in der Weiberwirtschaft – Genuss auf den Punkt! 🔥 \nFleischliebhaber aufgepasst! Es wird heiß\, saftig und unwiderstehlich lecker – unser Steakabend bringt euch feinste Cuts\, perfekt auf den Punkt gegrillt. \n🔥 Beste Qualität\, volles Aroma – frisch zubereitet & auf Wunsch verfeinert 🥩 Von zart bis herzhaft – Genieße ausgewählte Fleischspezialitäten 🍷 Passende Beilagen – für das perfekte Geschmackserlebnis 🎶 Gemütliche Atmosphäre – weil Genuss auch Ambiente braucht \nReserviere dir deinen Platz und freue dich auf einen Abend voller kulinarischer Höhepunkte!
URL:https://weiberwirtschaft-neiaeding.de/event/steakabend-13/
LOCATION:Weiberwirtschaft vo Neiäding\, Alter Stadtberg 15\, Neuötting\, 84524\, Germany
END:VEVENT
BEGIN:VEVENT
DTSTART;TZID=UTC:20260428T140000
DTEND;TZID=UTC:20260428T180000
DTSTAMP:20260420T114950
CREATED:20250618T114559Z
LAST-MODIFIED:20250618T114559Z
UID:1057-1777384800-1777399200@weiberwirtschaft-neiaeding.de
SUMMARY:Tanztee
DESCRIPTION:
URL:https://weiberwirtschaft-neiaeding.de/event/tanztee-14/
LOCATION:Weiberwirtschaft vo Neiäding\, Alter Stadtberg 15\, Neuötting\, 84524\, Germany
END:VEVENT
BEGIN:VEVENT
DTSTART;TZID=UTC:20260509T200000
DTEND;TZID=UTC:20260509T220000
DTSTAMP:20260420T114950
CREATED:20260221T100749Z
LAST-MODIFIED:20260226T131711Z
UID:1408-1778356800-1778364000@weiberwirtschaft-neiaeding.de
SUMMARY:Thomas Kahl / Der Soundtrack meines Lebens Teil 2
DESCRIPTION:Keine Reservierung möglich. Freie Platzwahl \nDer Eintritt ist frei. Es steht eine Künstlerkasse parat \nEinlass 18:00 Uhr
URL:https://weiberwirtschaft-neiaeding.de/event/konzert-thomas-kahl/
LOCATION:Weiberwirtschaft vo Neiäding\, Alter Stadtberg 15\, Neuötting\, 84524\, Germany
END:VEVENT
BEGIN:VEVENT
DTSTART;VALUE=DATE:20260608
DTEND;VALUE=DATE:20260623
DTSTAMP:20260420T114950
CREATED:20260221T102202Z
LAST-MODIFIED:20260221T102202Z
UID:1417-1780876800-1782172799@weiberwirtschaft-neiaeding.de
SUMMARY:Auszeit in der Weiberwirtschaft
DESCRIPTION:
URL:https://weiberwirtschaft-neiaeding.de/event/auszeit-in-der-weiberwirtschaft-2/
LOCATION:Weiberwirtschaft vo Neiäding\, Alter Stadtberg 15\, Neuötting\, 84524\, Germany
END:VEVENT
BEGIN:VEVENT
DTSTART;VALUE=DATE:20260813
DTEND;VALUE=DATE:20260819
DTSTAMP:20260420T114950
CREATED:20260221T102934Z
LAST-MODIFIED:20260221T103102Z
UID:1423-1786579200-1787097599@weiberwirtschaft-neiaeding.de
SUMMARY:Wir kochen auf der Neuöttinger Marktdult
DESCRIPTION:🍽️ Zwischen 13.08. und 18.08. kochen wir für Euch – auf der Neuöttinger Marktdult!\nDie Weiberwirtschaft ist heuer mit voller Leidenschaft dabei! Freut Euch auf frisch gekochte Schmankerl\, regionale Zutaten und die gewohnt herzliche Atmosphäre. \nKommt vorbei\, stärkt Euch\, ratscht a bisserl und genießt die Dulttage mit uns. Wir freuen uns auf Euch!
URL:https://weiberwirtschaft-neiaeding.de/event/wir-kochen-auf-der-neuoettinger-marktdult/
LOCATION:Marktdult Neuötting\, Landshuterstrasse\, Neuötting\, 84524\, Germany
END:VEVENT
BEGIN:VEVENT
DTSTART;VALUE=DATE:20260819
DTEND;VALUE=DATE:20260901
DTSTAMP:20260420T114950
CREATED:20260221T102252Z
LAST-MODIFIED:20260221T102252Z
UID:1420-1787097600-1788220799@weiberwirtschaft-neiaeding.de
SUMMARY:Auszeit in der Weiberwirtschaft
DESCRIPTION:
URL:https://weiberwirtschaft-neiaeding.de/event/auszeit-in-der-weiberwirtschaft-3/
LOCATION:Weiberwirtschaft vo Neiäding\, Alter Stadtberg 15\, Neuötting\, 84524\, Germany
END:VEVENT
BEGIN:VEVENT
DTSTART;TZID=UTC:20260926T170000
DTEND;TZID=UTC:20260926T210000
DTSTAMP:20260420T114950
CREATED:20250925T071922Z
LAST-MODIFIED:20250925T072635Z
UID:1186-1790442000-1790456400@weiberwirtschaft-neiaeding.de
SUMMARY:Steakabend
DESCRIPTION:🥩 Steakabend in der Weiberwirtschaft – Genuss auf den Punkt! 🔥 \nFleischliebhaber aufgepasst! Es wird heiß\, saftig und unwiderstehlich lecker – unser Steakabend bringt euch feinste Cuts\, perfekt auf den Punkt gegrillt. \n🔥 Beste Qualität\, volles Aroma – frisch zubereitet & auf Wunsch verfeinert 🥩 Von zart bis herzhaft – Genieße ausgewählte Fleischspezialitäten 🍷 Passende Beilagen – für das perfekte Geschmackserlebnis 🎶 Gemütliche Atmosphäre – weil Genuss auch Ambiente braucht \nReserviere dir deinen Platz und freue dich auf einen Abend voller kulinarischer Höhepunkte!
URL:https://weiberwirtschaft-neiaeding.de/event/steakabend-14/
LOCATION:Weiberwirtschaft vo Neiäding\, Alter Stadtberg 15\, Neuötting\, 84524\, Germany
END:VEVENT
BEGIN:VEVENT
DTSTART;TZID=UTC:20261031T170000
DTEND;TZID=UTC:20261031T210000
DTSTAMP:20260420T114950
CREATED:20250925T072017Z
LAST-MODIFIED:20250925T072658Z
UID:1188-1793466000-1793480400@weiberwirtschaft-neiaeding.de
SUMMARY:Steakabend
DESCRIPTION:🥩 Steakabend in der Weiberwirtschaft – Genuss auf den Punkt! 🔥 \nFleischliebhaber aufgepasst! Es wird heiß\, saftig und unwiderstehlich lecker – unser Steakabend bringt euch feinste Cuts\, perfekt auf den Punkt gegrillt. \n🔥 Beste Qualität\, volles Aroma – frisch zubereitet & auf Wunsch verfeinert 🥩 Von zart bis herzhaft – Genieße ausgewählte Fleischspezialitäten 🍷 Passende Beilagen – für das perfekte Geschmackserlebnis 🎶 Gemütliche Atmosphäre – weil Genuss auch Ambiente braucht \nReserviere dir deinen Platz und freue dich auf einen Abend voller kulinarischer Höhepunkte!
URL:https://weiberwirtschaft-neiaeding.de/event/steakabend-15/
LOCATION:Weiberwirtschaft vo Neiäding\, Alter Stadtberg 15\, Neuötting\, 84524\, Germany
END:VEVENT
BEGIN:VEVENT
DTSTART;TZID=UTC:20261128T170000
DTEND;TZID=UTC:20261128T210000
DTSTAMP:20260420T114950
CREATED:20250925T072106Z
LAST-MODIFIED:20250925T072726Z
UID:1190-1795885200-1795899600@weiberwirtschaft-neiaeding.de
SUMMARY:Steakabend
DESCRIPTION:🥩 Steakabend in der Weiberwirtschaft – Genuss auf den Punkt! 🔥 \nFleischliebhaber aufgepasst! Es wird heiß\, saftig und unwiderstehlich lecker – unser Steakabend bringt euch feinste Cuts\, perfekt auf den Punkt gegrillt. \n🔥 Beste Qualität\, volles Aroma – frisch zubereitet & auf Wunsch verfeinert 🥩 Von zart bis herzhaft – Genieße ausgewählte Fleischspezialitäten 🍷 Passende Beilagen – für das perfekte Geschmackserlebnis 🎶 Gemütliche Atmosphäre – weil Genuss auch Ambiente braucht \nReserviere dir deinen Platz und freue dich auf einen Abend voller kulinarischer Höhepunkte!
URL:https://weiberwirtschaft-neiaeding.de/event/steakabend-16/
LOCATION:Weiberwirtschaft vo Neiäding\, Alter Stadtberg 15\, Neuötting\, 84524\, Germany
END:VEVENT
END:VCALENDAR