BEGIN:VCALENDAR
VERSION:2.0
PRODID:-//Weiberwirtschaft vo Neiäding - ECPv6.15.20//NONSGML v1.0//EN
CALSCALE:GREGORIAN
METHOD:PUBLISH
X-ORIGINAL-URL:https://weiberwirtschaft-neiaeding.de
X-WR-CALDESC:Veranstaltungen für Weiberwirtschaft vo Neiäding
REFRESH-INTERVAL;VALUE=DURATION:PT1H
X-Robots-Tag:noindex
X-PUBLISHED-TTL:PT1H
BEGIN:VTIMEZONE
TZID:UTC
BEGIN:STANDARD
TZOFFSETFROM:+0000
TZOFFSETTO:+0000
TZNAME:UTC
DTSTART:20250101T000000
END:STANDARD
END:VTIMEZONE
BEGIN:VEVENT
DTSTART;VALUE=DATE:20260403
DTEND;VALUE=DATE:20260404
DTSTAMP:20260420T151207
CREATED:20260221T095750Z
LAST-MODIFIED:20260221T095750Z
UID:1399-1775174400-1775260799@weiberwirtschaft-neiaeding.de
SUMMARY:Karfreitag geschlossen !
DESCRIPTION:
URL:https://weiberwirtschaft-neiaeding.de/event/karfreitag-geschlossen/
LOCATION:Weiberwirtschaft vo Neiäding\, Alter Stadtberg 15\, Neuötting\, 84524\, Germany
END:VEVENT
END:VCALENDAR