BEGIN:VCALENDAR
VERSION:2.0
PRODID:-//Weiberwirtschaft vo Neiäding - ECPv6.15.20//NONSGML v1.0//EN
CALSCALE:GREGORIAN
METHOD:PUBLISH
X-ORIGINAL-URL:https://weiberwirtschaft-neiaeding.de
X-WR-CALDESC:Veranstaltungen für Weiberwirtschaft vo Neiäding
REFRESH-INTERVAL;VALUE=DURATION:PT1H
X-Robots-Tag:noindex
X-PUBLISHED-TTL:PT1H
BEGIN:VTIMEZONE
TZID:UTC
BEGIN:STANDARD
TZOFFSETFROM:+0000
TZOFFSETTO:+0000
TZNAME:UTC
DTSTART:20240101T000000
END:STANDARD
END:VTIMEZONE
BEGIN:VEVENT
DTSTART;TZID=UTC:20251019T110000
DTEND;TZID=UTC:20251019T140000
DTSTAMP:20260421T020526
CREATED:20250109T123659Z
LAST-MODIFIED:20250618T115102Z
UID:741-1760871600-1760882400@weiberwirtschaft-neiaeding.de
SUMMARY:Kirta in der Weiberwirtschaft
DESCRIPTION:Traditionellen Kirta Sonntag in der Weiberwirtschaft! 🍻 \nFreut euch auf eine gemütliche Atmosphäre\, bayerische Schmankerl und jede Menge Spaß. Wir haben für euch eine Auswahl an leckeren Spezialitäten vorbereitet\, die ihr nicht verpassen dürft.
URL:https://weiberwirtschaft-neiaeding.de/event/kirta-in-der-weiberwirtschaft/
LOCATION:Weiberwirtschaft vo Neiäding\, Alter Stadtberg 15\, Neuötting\, 84524\, Germany
END:VEVENT
END:VCALENDAR