BEGIN:VCALENDAR
VERSION:2.0
PRODID:-//Weiberwirtschaft vo Neiäding - ECPv6.15.20//NONSGML v1.0//EN
CALSCALE:GREGORIAN
METHOD:PUBLISH
X-ORIGINAL-URL:https://weiberwirtschaft-neiaeding.de
X-WR-CALDESC:Veranstaltungen für Weiberwirtschaft vo Neiäding
REFRESH-INTERVAL;VALUE=DURATION:PT1H
X-Robots-Tag:noindex
X-PUBLISHED-TTL:PT1H
BEGIN:VTIMEZONE
TZID:UTC
BEGIN:STANDARD
TZOFFSETFROM:+0000
TZOFFSETTO:+0000
TZNAME:UTC
DTSTART:20240101T000000
END:STANDARD
END:VTIMEZONE
BEGIN:VEVENT
DTSTART;VALUE=DATE:20250814
DTEND;VALUE=DATE:20250902
DTSTAMP:20260421T054820
CREATED:20250517T072752Z
LAST-MODIFIED:20250517T072752Z
UID:993-1755129600-1756771199@weiberwirtschaft-neiaeding.de
SUMMARY:Urlaub
DESCRIPTION:
URL:https://weiberwirtschaft-neiaeding.de/event/urlaub-2/
END:VEVENT
END:VCALENDAR